BEGIN:VCALENDAR
VERSION:2.0
PRODID:icalendar-ruby
CALSCALE:GREGORIAN
METHOD:PUBLISH
BEGIN:VTIMEZONE
TZID:Australia/Perth
BEGIN:STANDARD
DTSTART:20090329T020000
TZOFFSETFROM:+0900
TZOFFSETTO:+0800
TZNAME:AWST
END:STANDARD
END:VTIMEZONE
BEGIN:VEVENT
DTSTAMP:20260422T103538Z
UID:inspection_3007931
DTSTART;TZID=Australia/Perth:20260425T120000
DTEND;TZID=Australia/Perth:20260425T124500
CLASS:PUBLIC
CREATED:20260421T140453
DESCRIPTION: 
LAST-MODIFIED:20260421T140453
LOCATION:99 St Kilda Road\, RIVERVALE WA 6103\, Australia
SUMMARY:99 St Kilda Road\,  Inspection
URL;VALUE=URI:https://www.halynproperty.com.au/
END:VEVENT
END:VCALENDAR
